BEGIN:VCALENDAR
VERSION:2.0
PRODID:-//wp-events-plugin.com//7.2.3.1//EN
TZID:Europe/Paris
X-WR-TIMEZONE:Europe/Paris
BEGIN:VEVENT
UID:43@asldulavoir.fr
DTSTART;TZID=Europe/Paris:20250401T200000
DTEND;TZID=Europe/Paris:20250401T220000
DTSTAMP:20250312T175014Z
URL:https://asldulavoir.fr/events/assembee-generale-2025/
SUMMARY:Assemblée générale 2025
DESCRIPTION:Date a retenir 1 avril 2025\n\nVous trouverez ci dessous les do
 cuments relatifs à l'AG:\n\nComparaison 3 solutions\n\nconvocation recto 
 _2025\n\nconvocation verso_2025\n\nFinance AG 2025\n\npouvoir 2025
CATEGORIES:Assemblées Générales
LOCATION:Château de Belleville\, Rue de la Ferme de Belleville\, Gif sur Y
 vette\, 91190\, Essonne\, France
X-APPLE-STRUCTURED-LOCATION;VALUE=URI;X-ADDRESS=Rue de la Ferme de Bellevil
 le\, Gif sur Yvette\, 91190\, Essonne\, France;X-APPLE-RADIUS=100;X-TITLE=
 Château de Belleville:geo:0,0
END:VEVENT
BEGIN:VTIMEZONE
TZID:Europe/Paris
X-LIC-LOCATION:Europe/Paris
BEGIN:DAYLIGHT
DTSTART:20250330T030000
TZOFFSETFROM:+0100
TZOFFSETTO:+0200
TZNAME:CEST
END:DAYLIGHT
END:VTIMEZONE
END:VCALENDAR