BEGIN:VCALENDAR
VERSION:2.0
PRODID:-//wp-events-plugin.com//7.2.3.1//EN
TZID:Europe/Paris
X-WR-TIMEZONE:Europe/Paris
BEGIN:VEVENT
UID:1@asldulavoir.fr
DTSTART;TZID=Europe/Paris:20240522T194500
DTEND;TZID=Europe/Paris:20240522T220000
DTSTAMP:20240501T180947Z
URL:https://asldulavoir.fr/events/assemblee-generale-2024/
SUMMARY:Assemblée Générale 2024
DESCRIPTION:Bonjour à toutes et a tous\,\n\n2 Sujets importants seront abo
 rdés et feront l'objet d'un vote:\n\n 	Maintien des rondes TSIP\n 	Réfec
 tion des chemins piétonniers\n\n&nbsp\;\n\nVous pouvez recuperer votre co
 nvocation\, l'ordre du jour\, le budget et le pouvoir (procuration) ici \
 n\nBien à vous\,\n\nDanièle
ATTACH;FMTTYPE=image/jpeg:https://asldulavoir.fr/wp-content/uploads/2023/0
 3/assembleegenerale.jpg
CATEGORIES:Assemblées Générales
LOCATION:Château de Belleville\, Rue de la Ferme de Belleville\, Gif sur Y
 vette\, 91190\, Essonne\, France
X-APPLE-STRUCTURED-LOCATION;VALUE=URI;X-ADDRESS=Rue de la Ferme de Bellevil
 le\, Gif sur Yvette\, 91190\, Essonne\, France;X-APPLE-RADIUS=100;X-TITLE=
 Château de Belleville:geo:0,0
END:VEVENT
BEGIN:VTIMEZONE
TZID:Europe/Paris
X-LIC-LOCATION:Europe/Paris
BEGIN:DAYLIGHT
DTSTART:20240331T030000
TZOFFSETFROM:+0100
TZOFFSETTO:+0200
TZNAME:CEST
END:DAYLIGHT
END:VTIMEZONE
END:VCALENDAR