BEGIN:VCALENDAR
VERSION:2.0
PRODID:-//wp-events-plugin.com//7.2.3.1//EN
TZID:Europe/Paris
X-WR-TIMEZONE:Europe/Paris
BEGIN:VEVENT
UID:42@asldulavoir.fr
DTSTART;TZID=Europe/Paris;VALUE=DATE:20240915
DTEND;TZID=Europe/Paris;VALUE=DATE:20240916
DTSTAMP:20240619T185552Z
URL:https://asldulavoir.fr/events/la-fete-du-lavoir/
SUMMARY:La fête du Lavoir 
DESCRIPTION:Sur le thème "Guinguette" la fête du Lavoir aura lieu le 15 s
 eptembre 2024\n\n
END:VEVENT
BEGIN:VTIMEZONE
TZID:Europe/Paris
X-LIC-LOCATION:Europe/Paris
BEGIN:DAYLIGHT
DTSTART:20240331T030000
TZOFFSETFROM:+0100
TZOFFSETTO:+0200
TZNAME:CEST
END:DAYLIGHT
END:VTIMEZONE
END:VCALENDAR